Workbook

Sheet 使い方
A1: 勤務表テンプレート（Excel）の使い方
A3: 1. 「勤務表」シートの黄色いマスに、年・月・事業所名を入れます。日付と曜日は自動で変わります。
A4: 2. 氏名を入れ、各日のマスの ▼ から記号（早・日・遅・夜・明・休・希・有）を選びます。
A5: 3. 右の列に出勤日数・公休・夜勤・有給の数、下の行に日ごとの人数が自動で出ます。
A6: スタッフを増やすときは、名前の欄の途中に行を挿入し、上の行の右端4列（出勤日数〜有給）の式をコピーしてください。
A7: 4. 印刷は A3 横・1枚に収まるように設定してあります。
A9: 見落とし防止の目印
A10: ・夜勤の翌日が「明」になっていないと、そのマスが赤い枠になります。
A11: ・休み（休・希・有）のない日が6日続くと、6日目のマスが濃い赤になります。明（夜勤明け）も勤務の日として数えます。
A12: ・月をまたぐ並び（前の月の終わりからの続き）は、目印の対象になりません。
A13: ・目印は確認の手助けです。勤務のルールは、それぞれの職場の決まりに合わせて確かめてください。
A15: 記号を変えたいとき
... A23: このテンプレートは自由に使ってかまいません（職場での利用、書きかえ、印刷）。テンプレートそのものの再配布や販売はご遠慮ください。

Sheet 勤務表
A1: 勤務表
A2: 事業所名 | B2: （例）グループホーム ○○ | J2: 黄色のマスだけ入力します。勤務は各マスの ▼ から記号を選びます。
A3: 年月 | B3: 2026 | C3: 年 | D3: 11 | E3: 月 | J3: 赤い枠＝夜勤の翌日が「明」になっていない／濃い赤＝休み（休・希・有）のない日が6日続いた（見落とし防止の目印です）
A4: 氏名 | B4: 区分 | C4: =IF(1<=DAY(EOMONTH(DATE($B$3,$D$3,1),0)),1,"") -> 1 | D4: =IF(2<=DAY(EOMONTH(DATE($B$3,$D$3,1),0)),2,"") -> 2 | E4: =IF(3<=DAY(EOMONTH(DATE($B$3,$D$3,1),0)),3,"") -> 3 | F4: =IF(4<=DAY(EOMONTH(DATE($B$3,$D$3,1),0)),4,"") -> 4 | G4: =IF(5<=DAY(EOMONTH(DATE($B$3,$D$3,1),0)),5,"") -> 5 | H4: =IF(6<=DAY(EOMONTH(DATE($B$3,$D$3,1),0)),6,"") -> 6 | I4: =IF(7<=DAY(EOMONTH(DATE($B$3,$D$3,1),0)),7,"") -> 7 | J4: =IF(8<=DAY(EOMONTH(DATE($B$3,$D$3,1),0)),8,"") -> 8 | K4: =IF(9<=DAY(EOMONTH(DATE($B$3,$D$3,1),0)),9,"") -> 9 | L4: =IF(10<=DAY(EOMONTH(DATE($B$3,$D$3,1),0)),10,"") -> 10 | M4: =IF(11<=DAY(EOMONTH(DATE($B$3,$D$3,1),0)),11,"") -> 11 | N4: =IF(12<=DAY(EOMONTH(DATE($B$3,$D$3,1),0)),12,"") -> 12 | O4: =IF(13<=DAY(EOMONTH(DATE($B$3,$D$3,1),0)),13,"") -> 13 | P4: =IF(14<=DAY(EOMONTH(DATE($B$3,$D$3,1),0)),14,"") -> 14 | Q4: =IF(15<=DAY(EOMONTH(DATE($B$3,$D$3,1),0)),15,"") -> 15 | R4: =IF(16<=DAY(EOMONTH(DATE($B$3,$D$3,1),0)),16,"") -> 16 | S4: =IF(17<=DAY(EOMONTH(DATE($B$3,$D$3,1),0)),17,"") -> 17 | T4: =IF(18<=DAY(EOMONTH(DATE($B$3,$D$3,1),0)),18,"") -> 18 | U4: =IF(19<=DAY(EOMONTH(DATE($B$3,$D$3,1),0)),19,"") -> 19 | V4: =IF(20<=DAY(EOMONTH(DATE($B$3,$D$3,1),0)),20,"") -> 20 | W4: =IF(21<=DAY(EOMONTH(DATE($B$3,$D$3,1),0)),21,"") -> 21 | X4: =IF(22<=DAY(EOMONTH(DATE($B$3,$D$3,1),0)),22,"") -> 22 | Y4: =IF(23<=DAY(EOMONTH(DATE($B$3,$D$3,1),0)),23,"") -> 23 | Z4: =IF(24<=DAY(EOMONTH(DATE($B$3,$D$3,1),0)),24,"") -> 24 | AA4: =IF(25<=DAY(EOMONTH(DATE($B$3,$D$3,1),0)),25,"") -> 25 | AB4: =IF(26<=DAY(EOMONTH(DATE($B$3,$D$3,1),0)),26,"") -> 26 | AC4: =IF(27<=DAY(EOMONTH(DATE($B$3,$D$3,1),0)),27,"") -> 27 | AD4: =IF(28<=DAY(EOMONTH(DATE($B$3,$D$3,1),0)),28,"") -> 28 | AE4: =IF(29<=DAY(EOMONTH(DATE($B$3,$D$3,1),0)),29,"") -> 29 | AF4: =IF(30<=DAY(EOMONTH(DATE($B$3,$D$3,1),0)),30,"") -> 30 | AG4: =IF(31<=DAY(EOMONTH(DATE($B$3,$D$3,1),0)),31,"") | AH4: 出勤日数 | AI4: 公休 | AJ4: 夜勤 | AK4: 有給
C5: =IF(C4="","",CHOOSE(WEEKDAY(DATE($B$3,$D$3,C4)),"日","月","火","水","木","金","土")) -> 日 | D5: =IF(D4="","",CHOOSE(WEEKDAY(DATE($B$3,$D$3,D4)),"日","月","火","水","木","金","土")) -> 月 | E5: =IF(E4="","",CHOOSE(WEEKDAY(DATE($B$3,$D$3,E4)),"日","月","火","水","木","金","土")) -> 火 | F5: =IF(F4="","",CHOOSE(WEEKDAY(DATE($B$3,$D$3,F4)),"日","月","火","水","木","金","土")) -> 水 | G5: =IF(G4="","",CHOOSE(WEEKDAY(DATE($B$3,$D$3,G4)),"日","月","火","水","木","金","土")) -> 木 | H5: =IF(H4="","",CHOOSE(WEEKDAY(DATE($B$3,$D$3,H4)),"日","月","火","水","木","金","土")) -> 金 | I5: =IF(I4="","",CHOOSE(WEEKDAY(DATE($B$3,$D$3,I4)),"日","月","火","水","木","金","土")) -> 土 | J5: =IF(J4="","",CHOOSE(WEEKDAY(DATE($B$3,$D$3,J4)),"日","月","火","水","木","金","土")) -> 日 | ... AG5: =IF(AG4="","",CHOOSE(WEEKDAY(DATE($B$3,$D$3,AG4)),"日","月","火","水","木","金","土"))
A6: （例）職員A | B6: 常勤 | C6: 休 | D6: 早 | E6: 早 | F6: 日 | G6: 夜 | H6: 明 | I6: 休 | J6: 遅 | K6: 遅 | L6: 日 | M6: 希 | N6: 早 | O6: 夜 | P6: 明 | Q6: 休 | R6: 日 | S6: 日 | T6: 遅 | U6: 早 | V6: 休 | W6: 希 | X6: 夜 | Y6: 明 | Z6: 休 | AA6: 日 | AB6: 早 | AC6: 遅 | AD6: 遅 | AE6: 休 | AF6: 日 | AH6: =IF($A6="","",SUMPRODUCT(COUNTIF($C6:$AG6,記号!$A$2:$A$9)*(記号!$C$2:$C$9="○"))) -> 19 | AI6: =IF($A6="","",COUNTIF($C6:$AG6,記号!$A$7)+COUNTIF($C6:$AG6,記号!$A$8)) -> 8 | AJ6: =IF($A6="","",COUNTIF($C6:$AG6,記号!$A$5)) -> 3 | AK6: =IF($A6="","",COUNTIF($C6:$AG6,記号!$A$9)) -> 0
AH7: =IF($A7="","",SUMPRODUCT(COUNTIF($C7:$AG7,記号!$A$2:$A$9)*(記号!$C$2:$C$9="○"))) | AI7: =IF($A7="","",COUNTIF($C7:$AG7,記号!$A$7)+COUNTIF($C7:$AG7,記号!$A$8)) | AJ7: =IF($A7="","",COUNTIF($C7:$AG7,記号!$A$5)) | AK7: =IF($A7="","",COUNTIF($C7:$AG7,記号!$A$9))
AH8: =IF($A8="","",SUMPRODUCT(COUNTIF($C8:$AG8,記号!$A$2:$A$9)*(記号!$C$2:$C$9="○"))) | AI8: =IF($A8="","",COUNTIF($C8:$AG8,記号!$A$7)+COUNTIF($C8:$AG8,記号!$A$8)) | AJ8: =IF($A8="","",COUNTIF($C8:$AG8,記号!$A$5)) | AK8: =IF($A8="","",COUNTIF($C8:$AG8,記号!$A$9))
AH9: =IF($A9="","",SUMPRODUCT(COUNTIF($C9:$AG9,記号!$A$2:$A$9)*(記号!$C$2:$C$9="○"))) | AI9: =IF($A9="","",COUNTIF($C9:$AG9,記号!$A$7)+COUNTIF($C9:$AG9,記号!$A$8)) | AJ9: =IF($A9="","",COUNTIF($C9:$AG9,記号!$A$5)) | AK9: =IF($A9="","",COUNTIF($C9:$AG9,記号!$A$9))
AH10: =IF($A10="","",SUMPRODUCT(COUNTIF($C10:$AG10,記号!$A$2:$A$9)*(記号!$C$2:$C$9="○"))) | AI10: =IF($A10="","",COUNTIF($C10:$AG10,記号!$A$7)+COUNTIF($C10:$AG10,記号!$A$8)) | AJ10: =IF($A10="","",COUNTIF($C10:$AG10,記号!$A$5)) | AK10: =IF($A10="","",COUNTIF($C10:$AG10,記号!$A$9))
AH11: =IF($A11="","",SUMPRODUCT(COUNTIF($C11:$AG11,記号!$A$2:$A$9)*(記号!$C$2:$C$9="○"))) | AI11: =IF($A11="","",COUNTIF($C11:$AG11,記号!$A$7)+COUNTIF($C11:$AG11,記号!$A$8)) | AJ11: =IF($A11="","",COUNTIF($C11:$AG11,記号!$A$5)) | AK11: =IF($A11="","",COUNTIF($C11:$AG11,記号!$A$9))
AH12: =IF($A12="","",SUMPRODUCT(COUNTIF($C12:$AG12,記号!$A$2:$A$9)*(記号!$C$2:$C$9="○"))) | AI12: =IF($A12="","",COUNTIF($C12:$AG12,記号!$A$7)+COUNTIF($C12:$AG12,記号!$A$8)) | AJ12: =IF($A12="","",COUNTIF($C12:$AG12,記号!$A$5)) | AK12: =IF($A12="","",COUNTIF($C12:$AG12,記号!$A$9))
AH13: =IF($A13="","",SUMPRODUCT(COUNTIF($C13:$AG13,記号!$A$2:$A$9)*(記号!$C$2:$C$9="○"))) | AI13: =IF($A13="","",COUNTIF($C13:$AG13,記号!$A$7)+COUNTIF($C13:$AG13,記号!$A$8)) | AJ13: =IF($A13="","",COUNTIF($C13:$AG13,記号!$A$5)) | AK13: =IF($A13="","",COUNTIF($C13:$AG13,記号!$A$9))
AH14: =IF($A14="","",SUMPRODUCT(COUNTIF($C14:$AG14,記号!$A$2:$A$9)*(記号!$C$2:$C$9="○"))) | AI14: =IF($A14="","",COUNTIF($C14:$AG14,記号!$A$7)+COUNTIF($C14:$AG14,記号!$A$8)) | AJ14: =IF($A14="","",COUNTIF($C14:$AG14,記号!$A$5)) | AK14: =IF($A14="","",COUNTIF($C14:$AG14,記号!$A$9))
AH15: =IF($A15="","",SUMPRODUCT(COUNTIF($C15:$AG15,記号!$A$2:$A$9)*(記号!$C$2:$C$9="○"))) | AI15: =IF($A15="","",COUNTIF($C15:$AG15,記号!$A$7)+COUNTIF($C15:$AG15,記号!$A$8)) | AJ15: =IF($A15="","",COUNTIF($C15:$AG15,記号!$A$5)) | AK15: =IF($A15="","",COUNTIF($C15:$AG15,記号!$A$9))
AH16: =IF($A16="","",SUMPRODUCT(COUNTIF($C16:$AG16,記号!$A$2:$A$9)*(記号!$C$2:$C$9="○"))) | AI16: =IF($A16="","",COUNTIF($C16:$AG16,記号!$A$7)+COUNTIF($C16:$AG16,記号!$A$8)) | AJ16: =IF($A16="","",COUNTIF($C16:$AG16,記号!$A$5)) | AK16: =IF($A16="","",COUNTIF($C16:$AG16,記号!$A$9))
AH17: =IF($A17="","",SUMPRODUCT(COUNTIF($C17:$AG17,記号!$A$2:$A$9)*(記号!$C$2:$C$9="○"))) | AI17: =IF($A17="","",COUNTIF($C17:$AG17,記号!$A$7)+COUNTIF($C17:$AG17,記号!$A$8)) | AJ17: =IF($A17="","",COUNTIF($C17:$AG17,記号!$A$5)) | AK17: =IF($A17="","",COUNTIF($C17:$AG17,記号!$A$9))
AH18: =IF($A18="","",SUMPRODUCT(COUNTIF($C18:$AG18,記号!$A$2:$A$9)*(記号!$C$2:$C$9="○"))) | AI18: =IF($A18="","",COUNTIF($C18:$AG18,記号!$A$7)+COUNTIF($C18:$AG18,記号!$A$8)) | AJ18: =IF($A18="","",COUNTIF($C18:$AG18,記号!$A$5)) | AK18: =IF($A18="","",COUNTIF($C18:$AG18,記号!$A$9))
... AH25: =IF($A25="","",SUMPRODUCT(COUNTIF($C25:$AG25,記号!$A$2:$A$9)*(記号!$C$2:$C$9="○"))) | AI25: =IF($A25="","",COUNTIF($C25:$AG25,記号!$A$7)+COUNTIF($C25:$AG25,記号!$A$8)) | AJ25: =IF($A25="","",COUNTIF($C25:$AG25,記号!$A$5)) | AK25: =IF($A25="","",COUNTIF($C25:$AG25,記号!$A$9))
A27: 早番の人数 | C27: =IF(C$4="","",COUNTIF(C$6:C$25,記号!$A$2)) -> 0 | D27: =IF(D$4="","",COUNTIF(D$6:D$25,記号!$A$2)) -> 1 | E27: =IF(E$4="","",COUNTIF(E$6:E$25,記号!$A$2)) -> 1 | F27: =IF(F$4="","",COUNTIF(F$6:F$25,記号!$A$2)) -> 0 | G27: =IF(G$4="","",COUNTIF(G$6:G$25,記号!$A$2)) -> 0 | H27: =IF(H$4="","",COUNTIF(H$6:H$25,記号!$A$2)) -> 0 | I27: =IF(I$4="","",COUNTIF(I$6:I$25,記号!$A$2)) -> 0 | J27: =IF(J$4="","",COUNTIF(J$6:J$25,記号!$A$2)) -> 0 | ... AG27: =IF(AG$4="","",COUNTIF(AG$6:AG$25,記号!$A$2))
A28: 日勤の人数 | C28: =IF(C$4="","",COUNTIF(C$6:C$25,記号!$A$3)) -> 0 | D28: =IF(D$4="","",COUNTIF(D$6:D$25,記号!$A$3)) -> 0 | E28: =IF(E$4="","",COUNTIF(E$6:E$25,記号!$A$3)) -> 0 | F28: =IF(F$4="","",COUNTIF(F$6:F$25,記号!$A$3)) -> 1 | G28: =IF(G$4="","",COUNTIF(G$6:G$25,記号!$A$3)) -> 0 | H28: =IF(H$4="","",COUNTIF(H$6:H$25,記号!$A$3)) -> 0 | I28: =IF(I$4="","",COUNTIF(I$6:I$25,記号!$A$3)) -> 0 | J28: =IF(J$4="","",COUNTIF(J$6:J$25,記号!$A$3)) -> 0 | ... AG28: =IF(AG$4="","",COUNTIF(AG$6:AG$25,記号!$A$3))
A29: 遅番の人数 | C29: =IF(C$4="","",COUNTIF(C$6:C$25,記号!$A$4)) -> 0 | D29: =IF(D$4="","",COUNTIF(D$6:D$25,記号!$A$4)) -> 0 | E29: =IF(E$4="","",COUNTIF(E$6:E$25,記号!$A$4)) -> 0 | F29: =IF(F$4="","",COUNTIF(F$6:F$25,記号!$A$4)) -> 0 | G29: =IF(G$4="","",COUNTIF(G$6:G$25,記号!$A$4)) -> 0 | H29: =IF(H$4="","",COUNTIF(H$6:H$25,記号!$A$4)) -> 0 | I29: =IF(I$4="","",COUNTIF(I$6:I$25,記号!$A$4)) -> 0 | J29: =IF(J$4="","",COUNTIF(J$6:J$25,記号!$A$4)) -> 1 | ... AG29: =IF(AG$4="","",COUNTIF(AG$6:AG$25,記号!$A$4))
A30: 夜勤の人数 | C30: =IF(C$4="","",COUNTIF(C$6:C$25,記号!$A$5)) -> 0 | D30: =IF(D$4="","",COUNTIF(D$6:D$25,記号!$A$5)) -> 0 | E30: =IF(E$4="","",COUNTIF(E$6:E$25,記号!$A$5)) -> 0 | F30: =IF(F$4="","",COUNTIF(F$6:F$25,記号!$A$5)) -> 0 | G30: =IF(G$4="","",COUNTIF(G$6:G$25,記号!$A$5)) -> 1 | H30: =IF(H$4="","",COUNTIF(H$6:H$25,記号!$A$5)) -> 0 | I30: =IF(I$4="","",COUNTIF(I$6:I$25,記号!$A$5)) -> 0 | J30: =IF(J$4="","",COUNTIF(J$6:J$25,記号!$A$5)) -> 0 | ... AG30: =IF(AG$4="","",COUNTIF(AG$6:AG$25,記号!$A$5))
A31: 出勤の合計 | C31: =IF(C$4="","",COUNTIF(C$6:C$25,記号!$A$2)+COUNTIF(C$6:C$25,記号!$A$3)+COUNTIF(C$6:C$25,記号!$A$4)+COUNTIF(C$6:C$25,記号!$A$5)) -> 0 | D31: =IF(D$4="","",COUNTIF(D$6:D$25,記号!$A$2)+COUNTIF(D$6:D$25,記号!$A$3)+COUNTIF(D$6:D$25,記号!$A$4)+COUNTIF(D$6:D$25,記号!$A$5)) -> 1 | E31: =IF(E$4="","",COUNTIF(E$6:E$25,記号!$A$2)+COUNTIF(E$6:E$25,記号!$A$3)+COUNTIF(E$6:E$25,記号!$A$4)+COUNTIF(E$6:E$25,記号!$A$5)) -> 1 | F31: =IF(F$4="","",COUNTIF(F$6:F$25,記号!$A$2)+COUNTIF(F$6:F$25,記号!$A$3)+COUNTIF(F$6:F$25,記号!$A$4)+COUNTIF(F$6:F$25,記号!$A$5)) -> 1 | G31: =IF(G$4="","",COUNTIF(G$6:G$25,記号!$A$2)+COUNTIF(G$6:G$25,記号!$A$3)+COUNTIF(G$6:G$25,記号!$A$4)+COUNTIF(G$6:G$25,記号!$A$5)) -> 1 | H31: =IF(H$4="","",COUNTIF(H$6:H$25,記号!$A$2)+COUNTIF(H$6:H$25,記号!$A$3)+COUNTIF(H$6:H$25,記号!$A$4)+COUNTIF(H$6:H$25,記号!$A$5)) -> 0 | I31: =IF(I$4="","",COUNTIF(I$6:I$25,記号!$A$2)+COUNTIF(I$6:I$25,記号!$A$3)+COUNTIF(I$6:I$25,記号!$A$4)+COUNTIF(I$6:I$25,記号!$A$5)) -> 0 | J31: =IF(J$4="","",COUNTIF(J$6:J$25,記号!$A$2)+COUNTIF(J$6:J$25,記号!$A$3)+COUNTIF(J$6:J$25,記号!$A$4)+COUNTIF(J$6:J$25,記号!$A$5)) -> 1 | ... AG31: =IF(AG$4="","",COUNTIF(AG$6:AG$25,記号!$A$2)+COUNTIF(AG$6:AG$25,記号!$A$3)+COUNTIF(AG$6:AG$25,記号!$A$4)+COUNTIF(AG$6:AG$25,記号!$A$5))
A32: 休みの人数 | C32: =IF(C$4="","",COUNTIF(C$6:C$25,記号!$A$7)+COUNTIF(C$6:C$25,記号!$A$8)+COUNTIF(C$6:C$25,記号!$A$9)) -> 1 | D32: =IF(D$4="","",COUNTIF(D$6:D$25,記号!$A$7)+COUNTIF(D$6:D$25,記号!$A$8)+COUNTIF(D$6:D$25,記号!$A$9)) -> 0 | E32: =IF(E$4="","",COUNTIF(E$6:E$25,記号!$A$7)+COUNTIF(E$6:E$25,記号!$A$8)+COUNTIF(E$6:E$25,記号!$A$9)) -> 0 | F32: =IF(F$4="","",COUNTIF(F$6:F$25,記号!$A$7)+COUNTIF(F$6:F$25,記号!$A$8)+COUNTIF(F$6:F$25,記号!$A$9)) -> 0 | G32: =IF(G$4="","",COUNTIF(G$6:G$25,記号!$A$7)+COUNTIF(G$6:G$25,記号!$A$8)+COUNTIF(G$6:G$25,記号!$A$9)) -> 0 | H32: =IF(H$4="","",COUNTIF(H$6:H$25,記号!$A$7)+COUNTIF(H$6:H$25,記号!$A$8)+COUNTIF(H$6:H$25,記号!$A$9)) -> 0 | I32: =IF(I$4="","",COUNTIF(I$6:I$25,記号!$A$7)+COUNTIF(I$6:I$25,記号!$A$8)+COUNTIF(I$6:I$25,記号!$A$9)) -> 1 | J32: =IF(J$4="","",COUNTIF(J$6:J$25,記号!$A$7)+COUNTIF(J$6:J$25,記号!$A$8)+COUNTIF(J$6:J$25,記号!$A$9)) -> 0 | ... AG32: =IF(AG$4="","",COUNTIF(AG$6:AG$25,記号!$A$7)+COUNTIF(AG$6:AG$25,記号!$A$8)+COUNTIF(AG$6:AG$25,記号!$A$9))
A34: 自動で作るなら → ポケットシフト（スタッフ10名まで無料・登録不要） https://pocketshift.jp/

Sheet 記号
A1: 記号 | B1: 意味 | C1: 出勤日数に数える
A2: 早 | B2: 早番 | C2: ○
A3: 日 | B3: 日勤 | C3: ○
A4: 遅 | B4: 遅番 | C4: ○
A5: 夜 | B5: 夜勤 | C5: ○
A6: 明 | B6: 夜勤明け
A7: 休 | B7: 公休
A8: 希 | B8: 希望休
A9: 有 | B9: 有給休暇
A11: ※ 記号の文字は、勤務表で選べる候補になります。「早」を「A」にするなど、職場の呼び方に変えてもかまいません（色は記号の文字に合わせて付きます）。
